BEGIN:VCALENDAR
VERSION:2.0
PRODID:-//Canaan UMC - ECPv6.15.17//NONSGML v1.0//EN
CALSCALE:GREGORIAN
METHOD:PUBLISH
X-WR-CALNAME:Canaan UMC
X-ORIGINAL-URL:https://www.canaanumc.com
X-WR-CALDESC:Events for Canaan UMC
REFRESH-INTERVAL;VALUE=DURATION:PT1H
X-Robots-Tag:noindex
X-PUBLISHED-TTL:PT1H
BEGIN:VTIMEZONE
TZID:America/New_York
BEGIN:DAYLIGHT
TZOFFSETFROM:-0500
TZOFFSETTO:-0400
TZNAME:EDT
DTSTART:20240310T070000
END:DAYLIGHT
BEGIN:STANDARD
TZOFFSETFROM:-0400
TZOFFSETTO:-0500
TZNAME:EST
DTSTART:20241103T060000
END:STANDARD
BEGIN:DAYLIGHT
TZOFFSETFROM:-0500
TZOFFSETTO:-0400
TZNAME:EDT
DTSTART:20250309T070000
END:DAYLIGHT
BEGIN:STANDARD
TZOFFSETFROM:-0400
TZOFFSETTO:-0500
TZNAME:EST
DTSTART:20251102T060000
END:STANDARD
BEGIN:DAYLIGHT
TZOFFSETFROM:-0500
TZOFFSETTO:-0400
TZNAME:EDT
DTSTART:20260308T070000
END:DAYLIGHT
BEGIN:STANDARD
TZOFFSETFROM:-0400
TZOFFSETTO:-0500
TZNAME:EST
DTSTART:20261101T060000
END:STANDARD
END:VTIMEZONE
BEGIN:VEVENT
DTSTART;TZID=America/New_York:20251116T093000
DTEND;TZID=America/New_York:20251116T101500
DTSTAMP:20260425T193500
CREATED:20250925T151355Z
LAST-MODIFIED:20250925T151355Z
UID:288-1763285400-1763288100@www.canaanumc.com
SUMMARY:Sunday School
DESCRIPTION:
URL:https://www.canaanumc.com/event/sunday-school-8/
END:VEVENT
BEGIN:VEVENT
DTSTART;TZID=America/New_York:20251116T103000
DTEND;TZID=America/New_York:20251116T113000
DTSTAMP:20260425T193500
CREATED:20250925T151610Z
LAST-MODIFIED:20250925T151610Z
UID:289-1763289000-1763292600@www.canaanumc.com
SUMMARY:Worship Service
DESCRIPTION:
URL:https://www.canaanumc.com/event/worship-service-9/
END:VEVENT
BEGIN:VEVENT
DTSTART;TZID=America/New_York:20251116T104500
DTEND;TZID=America/New_York:20251116T160000
DTSTAMP:20260425T193500
CREATED:20250925T151713Z
LAST-MODIFIED:20250925T151713Z
UID:290-1763289900-1763308800@www.canaanumc.com
SUMMARY:Blood Drive
DESCRIPTION:
URL:https://www.canaanumc.com/event/blood-drive/
END:VEVENT
END:VCALENDAR