BEGIN:VCALENDAR
VERSION:2.0
PRODID:-//Canaan UMC - ECPv6.15.17//NONSGML v1.0//EN
CALSCALE:GREGORIAN
METHOD:PUBLISH
X-WR-CALNAME:Canaan UMC
X-ORIGINAL-URL:https://www.canaanumc.com
X-WR-CALDESC:Events for Canaan UMC
REFRESH-INTERVAL;VALUE=DURATION:PT1H
X-Robots-Tag:noindex
X-PUBLISHED-TTL:PT1H
BEGIN:VTIMEZONE
TZID:America/New_York
BEGIN:DAYLIGHT
TZOFFSETFROM:-0500
TZOFFSETTO:-0400
TZNAME:EDT
DTSTART:20250309T070000
END:DAYLIGHT
BEGIN:STANDARD
TZOFFSETFROM:-0400
TZOFFSETTO:-0500
TZNAME:EST
DTSTART:20251102T060000
END:STANDARD
BEGIN:DAYLIGHT
TZOFFSETFROM:-0500
TZOFFSETTO:-0400
TZNAME:EDT
DTSTART:20260308T070000
END:DAYLIGHT
BEGIN:STANDARD
TZOFFSETFROM:-0400
TZOFFSETTO:-0500
TZNAME:EST
DTSTART:20261101T060000
END:STANDARD
BEGIN:DAYLIGHT
TZOFFSETFROM:-0500
TZOFFSETTO:-0400
TZNAME:EDT
DTSTART:20270314T070000
END:DAYLIGHT
BEGIN:STANDARD
TZOFFSETFROM:-0400
TZOFFSETTO:-0500
TZNAME:EST
DTSTART:20271107T060000
END:STANDARD
END:VTIMEZONE
BEGIN:VEVENT
DTSTART;TZID=America/New_York:20260111T093000
DTEND;TZID=America/New_York:20260111T101500
DTSTAMP:20260423T080554
CREATED:20260106T183946Z
LAST-MODIFIED:20260106T183946Z
UID:453-1768123800-1768126500@www.canaanumc.com
SUMMARY:Sunday School
DESCRIPTION:
URL:https://www.canaanumc.com/event/sunday-school-14/
END:VEVENT
BEGIN:VEVENT
DTSTART;TZID=America/New_York:20260111T093000
DTEND;TZID=America/New_York:20260111T113000
DTSTAMP:20260423T080554
CREATED:20260107T173140Z
LAST-MODIFIED:20260107T173258Z
UID:504-1768123800-1768131000@www.canaanumc.com
SUMMARY:Confirmation Class
DESCRIPTION:Visit Immaculate Heart of Mary today
URL:https://www.canaanumc.com/event/confirmation-class-2/
END:VEVENT
BEGIN:VEVENT
DTSTART;TZID=America/New_York:20260111T103000
DTEND;TZID=America/New_York:20260111T113000
DTSTAMP:20260423T080554
CREATED:20260106T184843Z
LAST-MODIFIED:20260106T184843Z
UID:458-1768127400-1768131000@www.canaanumc.com
SUMMARY:Worship Service
DESCRIPTION:
URL:https://www.canaanumc.com/event/worship-service-12/
END:VEVENT
BEGIN:VEVENT
DTSTART;TZID=America/New_York:20260111T160000
DTEND;TZID=America/New_York:20260111T170000
DTSTAMP:20260423T080554
CREATED:20260106T184927Z
LAST-MODIFIED:20260106T184927Z
UID:459-1768147200-1768150800@www.canaanumc.com
SUMMARY:Choir Practice
DESCRIPTION:
URL:https://www.canaanumc.com/event/choir-practice-4/
END:VEVENT
END:VCALENDAR