BEGIN:VCALENDAR
VERSION:2.0
PRODID:-//Canaan UMC - ECPv6.15.17//NONSGML v1.0//EN
CALSCALE:GREGORIAN
METHOD:PUBLISH
X-WR-CALNAME:Canaan UMC
X-ORIGINAL-URL:https://www.canaanumc.com
X-WR-CALDESC:Events for Canaan UMC
REFRESH-INTERVAL;VALUE=DURATION:PT1H
X-Robots-Tag:noindex
X-PUBLISHED-TTL:PT1H
BEGIN:VTIMEZONE
TZID:America/New_York
BEGIN:DAYLIGHT
TZOFFSETFROM:-0500
TZOFFSETTO:-0400
TZNAME:EDT
DTSTART:20250309T070000
END:DAYLIGHT
BEGIN:STANDARD
TZOFFSETFROM:-0400
TZOFFSETTO:-0500
TZNAME:EST
DTSTART:20251102T060000
END:STANDARD
BEGIN:DAYLIGHT
TZOFFSETFROM:-0500
TZOFFSETTO:-0400
TZNAME:EDT
DTSTART:20260308T070000
END:DAYLIGHT
BEGIN:STANDARD
TZOFFSETFROM:-0400
TZOFFSETTO:-0500
TZNAME:EST
DTSTART:20261101T060000
END:STANDARD
BEGIN:DAYLIGHT
TZOFFSETFROM:-0500
TZOFFSETTO:-0400
TZNAME:EDT
DTSTART:20270314T070000
END:DAYLIGHT
BEGIN:STANDARD
TZOFFSETFROM:-0400
TZOFFSETTO:-0500
TZNAME:EST
DTSTART:20271107T060000
END:STANDARD
END:VTIMEZONE
BEGIN:VEVENT
DTSTART;TZID=America/New_York:20260426T093000
DTEND;TZID=America/New_York:20260426T101500
DTSTAMP:20260420T042856
CREATED:20260107T191027Z
LAST-MODIFIED:20260107T191027Z
UID:546-1777195800-1777198500@www.canaanumc.com
SUMMARY:Sunday School
DESCRIPTION:
URL:https://www.canaanumc.com/event/sunday-school-28/
END:VEVENT
BEGIN:VEVENT
DTSTART;TZID=America/New_York:20260426T103000
DTEND;TZID=America/New_York:20260426T113000
DTSTAMP:20260420T042856
CREATED:20260107T191125Z
LAST-MODIFIED:20260114T154440Z
UID:547-1777199400-1777203000@www.canaanumc.com
SUMMARY:Worship Service and Communion
DESCRIPTION:
URL:https://www.canaanumc.com/event/worship-service-26/
END:VEVENT
BEGIN:VEVENT
DTSTART;TZID=America/New_York:20260426T114500
DTEND;TZID=America/New_York:20260426T130000
DTSTAMP:20260420T042856
CREATED:20260107T191153Z
LAST-MODIFIED:20260107T191153Z
UID:548-1777203900-1777208400@www.canaanumc.com
SUMMARY:FUSION
DESCRIPTION:
URL:https://www.canaanumc.com/event/fusion-15/
END:VEVENT
BEGIN:VEVENT
DTSTART;TZID=America/New_York:20260426T170000
DTEND;TZID=America/New_York:20260426T180000
DTSTAMP:20260420T042856
CREATED:20260107T191227Z
LAST-MODIFIED:20260324T170223Z
UID:549-1777222800-1777226400@www.canaanumc.com
SUMMARY:Choir Practice
DESCRIPTION:
URL:https://www.canaanumc.com/event/choir-practice-18/
END:VEVENT
END:VCALENDAR