BEGIN:VCALENDAR
VERSION:2.0
PRODID:-//Canaan UMC - ECPv6.15.17//NONSGML v1.0//EN
CALSCALE:GREGORIAN
METHOD:PUBLISH
X-WR-CALNAME:Canaan UMC
X-ORIGINAL-URL:https://www.canaanumc.com
X-WR-CALDESC:Events for Canaan UMC
REFRESH-INTERVAL;VALUE=DURATION:PT1H
X-Robots-Tag:noindex
X-PUBLISHED-TTL:PT1H
BEGIN:VTIMEZONE
TZID:America/New_York
BEGIN:DAYLIGHT
TZOFFSETFROM:-0500
TZOFFSETTO:-0400
TZNAME:EDT
DTSTART:20250309T070000
END:DAYLIGHT
BEGIN:STANDARD
TZOFFSETFROM:-0400
TZOFFSETTO:-0500
TZNAME:EST
DTSTART:20251102T060000
END:STANDARD
BEGIN:DAYLIGHT
TZOFFSETFROM:-0500
TZOFFSETTO:-0400
TZNAME:EDT
DTSTART:20260308T070000
END:DAYLIGHT
BEGIN:STANDARD
TZOFFSETFROM:-0400
TZOFFSETTO:-0500
TZNAME:EST
DTSTART:20261101T060000
END:STANDARD
BEGIN:DAYLIGHT
TZOFFSETFROM:-0500
TZOFFSETTO:-0400
TZNAME:EDT
DTSTART:20270314T070000
END:DAYLIGHT
BEGIN:STANDARD
TZOFFSETFROM:-0400
TZOFFSETTO:-0500
TZNAME:EST
DTSTART:20271107T060000
END:STANDARD
END:VTIMEZONE
BEGIN:VEVENT
DTSTART;TZID=America/New_York:20260430T170000
DTEND;TZID=America/New_York:20260430T183000
DTSTAMP:20260420T112924
CREATED:20260107T191347Z
LAST-MODIFIED:20260107T191507Z
UID:551-1777568400-1777573800@www.canaanumc.com
SUMMARY:Food Distribution
DESCRIPTION:Bring your Food Bank card and Driver’s License/valid ID.  If you do not have a Food Bank card\, you can complete paperwork and we will assign one for you.
URL:https://www.canaanumc.com/event/food-distribution-4/
END:VEVENT
BEGIN:VEVENT
DTSTART;TZID=America/New_York:20260430T170000
DTEND;TZID=America/New_York:20260430T183000
DTSTAMP:20260420T112924
CREATED:20260331T153117Z
LAST-MODIFIED:20260331T153117Z
UID:658-1777568400-1777573800@www.canaanumc.com
SUMMARY:Food Distribution
DESCRIPTION:Bring your Food Bank card and Driver’s License/valid ID.  If you do not have a Food Bank card\, you can complete paperwork and we will assign one to you.
URL:https://www.canaanumc.com/event/food-distribution-6/
END:VEVENT
END:VCALENDAR